Workbook
Name Средний_чек: 'Вводные'!$B$5
Name Гости_старт: 'Вводные'!$B$6
Name Рост_первые: 'Вводные'!$B$7
Name Рост_далее: 'Вводные'!$B$8
Name Рост_чека: 'Вводные'!$B$9
Name Открытых_дней: 'Вводные'!$B$10
Name Сырье: 'Вводные'!$B$11
Name Упаковка: 'Вводные'!$B$12
Name Списания: 'Вводные'!$B$13
Name Эквайринг: 'Вводные'!$B$14
Name Аренда: 'Вводные'!$B$15
Name Бариста_шт: 'Вводные'!$B$16
Name Бариста_оклад: 'Вводные'!$B$17
Name Пекари_шт: 'Вводные'!$B$18
Name Пекарь_оклад: 'Вводные'!$B$19
Name Основатели_шт: 'Вводные'!$B$20
Name Основатель_оклад: 'Вводные'!$B$21
Name Ставка_взносов: 'Вводные'!$B$22
Name Коммунальные: 'Вводные'!$B$23
Name Прочие: 'Вводные'!$B$24
Name Маркетинг: 'Вводные'!$B$25
Name УСН_ставка: 'Вводные'!$B$26
Name Вычет_лимит: 'Вводные'!$B$27
Name Порог_НДС: 'Вводные'!$B$28
Name Ставка_НДС: 'Вводные'!$B$29
Name Льгота_общепит: 'Вводные'!$B$30
Name Денежная_подушка: 'Вводные'!$B$31
Name Сезон_01: 'Вводные'!$B$41
Name Сезон_02: 'Вводные'!$B$42
Name Сезон_03: 'Вводные'!$B$43
Name Сезон_04: 'Вводные'!$B$44
Name Сезон_05: 'Вводные'!$B$45
Name Сезон_06: 'Вводные'!$B$46
Name Сезон_07: 'Вводные'!$B$47
Name Сезон_08: 'Вводные'!$B$48
Name Сезон_09: 'Вводные'!$B$49
Name Сезон_10: 'Вводные'!$B$50
Name Сезон_11: 'Вводные'!$B$51
Name Сезон_12: 'Вводные'!$B$52
Name Ремонт: 'Вводные'!$B$59
Name Печь_и_тестомес: 'Вводные'!$B$60
Name Кофе_комплект: 'Вводные'!$B$61
Name Холод_витрина: 'Вводные'!$B$62
Name Мебель: 'Вводные'!$B$63
Name Касса: 'Вводные'!$B$64
Name Инвентарь: 'Вводные'!$B$65
Name Открытие: 'Вводные'!$B$66
Name Запас_сырья: 'Вводные'!$B$67
Name Депозит_месяцев: 'Вводные'!$B$68
Name Резерв_сметы: 'Вводные'!$B$69
Name Старт_всего: 'Запуск'!$B$16
Name Нужно_денег: 'Деньги'!$L$2

Sheet Итоги
A1: Пекарня-кофейня · Казань
A2: Январь–декабрь 2027 · оценочный сценарий, не обещание доходности
A4: Выручка за год | B4: Прибыль за год | C4: До открытия | D4: Всего своих денег
A5: =SUM('Продажи'!$H$5:$H$16) -> 13177515 | B5: =SUM('Прибыль'!$F$5:$F$16) -> 905873.73 | C5: =Старт_всего -> 2657000 | D5: =Нужно_денег -> 3208466.3
A7: Первый месяц в плюсе | B7: Возврат вложений | C7: Не вернули к декабрю
A8: =IF(COUNTIF('Прибыль'!$I$5:$I$16,">0")=0,"Нет в 2027",_xlfn.MINIFS('Прибыль'!$I$5:$I$16,'Прибыль'!$I$5:$I$16,">0")) -> 46478 | B8: =IF(COUNTIF('Прибыль'!$J$5:$J$16,">0")=0,"Не окупилось",_xlfn.MINIFS('Прибыль'!$J$5:$J$16,'Прибыль'!$J$5:$J$16,">0")) -> Не окупилось | C8: =MAX(0,-INDEX('Прибыль'!$H$5:$H$16,12)) -> 1751126.3
A10: Месяц | B10: Выручка | C10: Расходы без налогов | D10: Налоги | E10: Прибыль | F10: Возврат вложений
A11: 46388 | B11: =INDEX('Продажи'!$H$5:$H$16,MONTH($A11)) -> 785850 | C11: =INDEX('Расходы'!$L$5:$L$16,MONTH($A11)) -> 868529.8 | D11: =INDEX('Прибыль'!$E$5:$E$16,MONTH($A11))+INDEX('Прибыль'!$D$5:$D$16,MONTH($A11)) -> 23575.5 | E11: =INDEX('Прибыль'!$F$5:$F$16,MONTH($A11)) -> -106255.3 | F11: =INDEX('Прибыль'!$H$5:$H$16,MONTH($A11)) -> -2763255.3
A12: 46419 | B12: =INDEX('Продажи'!$H$5:$H$16,MONTH($A12)) -> 760032 | C12: =INDEX('Расходы'!$L$5:$L$16,MONTH($A12)) -> 858512.42 | D12: =INDEX('Прибыль'!$E$5:$E$16,MONTH($A12))+INDEX('Прибыль'!$D$5:$D$16,MONTH($A12)) -> 22800.96 | E12: =INDEX('Прибыль'!$F$5:$F$16,MONTH($A12)) -> -121281.38 | F12: =INDEX('Прибыль'!$H$5:$H$16,MONTH($A12)) -> -2884536.7
A13: 46447 | B13: =INDEX('Продажи'!$H$5:$H$16,MONTH($A13)) -> 927303 | C13: =INDEX('Расходы'!$L$5:$L$16,MONTH($A13)) -> 923413.56 | D13: =INDEX('Прибыль'!$E$5:$E$16,MONTH($A13))+INDEX('Прибыль'!$D$5:$D$16,MONTH($A13)) -> 27819.09 | E13: =INDEX('Прибыль'!$F$5:$F$16,MONTH($A13)) -> -23929.654 | F13: =INDEX('Прибыль'!$H$5:$H$16,MONTH($A13)) -> -2908466.3
A14: 46478 | B14: =INDEX('Продажи'!$H$5:$H$16,MONTH($A14)) -> 978120 | C14: =INDEX('Расходы'!$L$5:$L$16,MONTH($A14)) -> 943130.56 | D14: =INDEX('Прибыль'!$E$5:$E$16,MONTH($A14))+INDEX('Прибыль'!$D$5:$D$16,MONTH($A14)) -> 29343.6 | E14: =INDEX('Прибыль'!$F$5:$F$16,MONTH($A14)) -> 5645.84 | F14: =INDEX('Прибыль'!$H$5:$H$16,MONTH($A14)) -> -2902820.5
A15: 46508 | B15: =INDEX('Продажи'!$H$5:$H$16,MONTH($A15)) -> 1082055 | C15: =INDEX('Расходы'!$L$5:$L$16,MONTH($A15)) -> 983457.34 | D15: =INDEX('Прибыль'!$E$5:$E$16,MONTH($A15))+INDEX('Прибыль'!$D$5:$D$16,MONTH($A15)) -> 32461.65 | E15: =INDEX('Прибыль'!$F$5:$F$16,MONTH($A15)) -> 66136.01 | F15: =INDEX('Прибыль'!$H$5:$H$16,MONTH($A15)) -> -2836684.5
A16: 46539 | B16: =INDEX('Продажи'!$H$5:$H$16,MONTH($A16)) -> 1013220 | C16: =INDEX('Расходы'!$L$5:$L$16,MONTH($A16)) -> 956749.36 | D16: =INDEX('Прибыль'!$E$5:$E$16,MONTH($A16))+INDEX('Прибыль'!$D$5:$D$16,MONTH($A16)) -> 30396.6 | E16: =INDEX('Прибыль'!$F$5:$F$16,MONTH($A16)) -> 26074.04 | F16: =INDEX('Прибыль'!$H$5:$H$16,MONTH($A16)) -> -2810610.4
A17: 46569 | B17: =INDEX('Продажи'!$H$5:$H$16,MONTH($A17)) -> 1021605 | C17: =INDEX('Расходы'!$L$5:$L$16,MONTH($A17)) -> 960002.74 | D17: =INDEX('Прибыль'!$E$5:$E$16,MONTH($A17))+INDEX('Прибыль'!$D$5:$D$16,MONTH($A17)) -> 30648.15 | E17: =INDEX('Прибыль'!$F$5:$F$16,MONTH($A17)) -> 30954.11 | F17: =INDEX('Прибыль'!$H$5:$H$16,MONTH($A17)) -> -2779656.3
A18: 46600 | B18: =INDEX('Продажи'!$H$5:$H$16,MONTH($A18)) -> 1111071 | C18: =INDEX('Расходы'!$L$5:$L$16,MONTH($A18)) -> 994715.55 | D18: =INDEX('Прибыль'!$E$5:$E$16,MONTH($A18))+INDEX('Прибыль'!$D$5:$D$16,MONTH($A18)) -> 33332.13 | E18: =INDEX('Прибыль'!$F$5:$F$16,MONTH($A18)) -> 83023.322 | F18: =INDEX('Прибыль'!$H$5:$H$16,MONTH($A18)) -> -2696633
A19: 46631 | B19: =INDEX('Продажи'!$H$5:$H$16,MONTH($A19)) -> 1258920 | C19: =INDEX('Расходы'!$L$5:$L$16,MONTH($A19)) -> 1052081 | D19: =INDEX('Прибыль'!$E$5:$E$16,MONTH($A19))+INDEX('Прибыль'!$D$5:$D$16,MONTH($A19)) -> 37767.6 | E19: =INDEX('Прибыль'!$F$5:$F$16,MONTH($A19)) -> 169071.44 | F19: =INDEX('Прибыль'!$H$5:$H$16,MONTH($A19)) -> -2527561.6
A20: 46661 | B20: =INDEX('Продажи'!$H$5:$H$16,MONTH($A20)) -> 1364961 | C20: =INDEX('Расходы'!$L$5:$L$16,MONTH($A20)) -> 1093224.9 | D20: =INDEX('Прибыль'!$E$5:$E$16,MONTH($A20))+INDEX('Прибыль'!$D$5:$D$16,MONTH($A20)) -> 40948.83 | E20: =INDEX('Прибыль'!$F$5:$F$16,MONTH($A20)) -> 230787.3 | F20: =INDEX('Прибыль'!$H$5:$H$16,MONTH($A20)) -> -2296774.3
A21: 46692 | B21: =INDEX('Продажи'!$H$5:$H$16,MONTH($A21)) -> 1360710 | C21: =INDEX('Расходы'!$L$5:$L$16,MONTH($A21)) -> 1091575.5 | D21: =INDEX('Прибыль'!$E$5:$E$16,MONTH($A21))+INDEX('Прибыль'!$D$5:$D$16,MONTH($A21)) -> 40821.3 | E21: =INDEX('Прибыль'!$F$5:$F$16,MONTH($A21)) -> 228313.22 | F21: =INDEX('Прибыль'!$H$5:$H$16,MONTH($A21)) -> -2068461
A22: 46722 | B22: =INDEX('Продажи'!$H$5:$H$16,MONTH($A22)) -> 1513668 | C22: =INDEX('Расходы'!$L$5:$L$16,MONTH($A22)) -> 1150923.2 | D22: =INDEX('Прибыль'!$E$5:$E$16,MONTH($A22))+INDEX('Прибыль'!$D$5:$D$16,MONTH($A22)) -> 45410.04 | E22: =INDEX('Прибыль'!$F$5:$F$16,MONTH($A22)) -> 317334.78 | F22: =INDEX('Прибыль'!$H$5:$H$16,MONTH($A22)) -> -1751126.3
A23: Итого | B23: =SUM(B11:B22) -> 13177515 | C23: =SUM(C11:C22) -> 11876316 | D23: =SUM(D11:D22) -> 395325.45 | E23: =SUM(E11:E22) -> 905873.73
A43: Два разных «нуля»
A44: Первый месяц в плюсе: продажи покрывают текущие расходы и начисленные налоги. Окупаемость: накопленная прибыль вернула ремонт, оборудование, депозит и стартовый запас. Вложения не вычитаются повторно из месячной прибыли. В расчёте окупаемости депозит и запас консервативно считаются связанными деньгами.
A46: Сколько денег подготовить
A47: «Всего своих денег» = бюджет до открытия + максимальный накопленный убыток после резерва налогов + дополнительная подушка. Это не дополнительный расход. Кредиты, дивиденды и возврат займа учредителям не включены.
A49: Выручка в ноль, ₽/мес.
A50: =(Бариста_шт*Бариста_оклад+Пекари_шт*Пекарь_оклад+Основатели_шт*Основатель_оклад)*(1+Ставка_взносов)/(1-Сырье-Упаковка-Списания-Эквайринг-УСН_ставка*(1-Вычет_лимит))+(Аренда+Коммунальные+Маркетинг+Прочие)/(1-Сырье-Упаковка-Списания-Эквайринг-УСН_ставка*(1-Вычет_лимит)) -> 968419.24
A52: О пороге выручки
A53: Оценка при УСН 6 % с уменьшением до 3 % выручки, без НДС и при неизменных расходах. При другой налоговой ситуации ориентируйтесь на месячную прибыль.

Sheet Запуск
A1: Сколько нужно до открытия
A2: Стартовые затраты отдельно от ежемесячной прибыли
A4: Статья | B4: Сумма
A5: Ремонт и коммуникации | B5: =Ремонт -> 650000
A6: Печь, расстойка, тестомес | B6: =Печь_и_тестомес -> 600000
A7: Кофейное оборудование | B7: =Кофе_комплект -> 400000
A8: Холод и витрина | B8: =Холод_витрина -> 200000
A9: Мебель | B9: =Мебель -> 150000
A10: Касса и ПО | B10: =Касса -> 70000
A11: Инвентарь | B11: =Инвентарь -> 60000
A12: Открытие и оформление | B12: =Открытие -> 50000
A13: Резерв сметы | B13: =(Ремонт+Печь_и_тестомес+Кофе_комплект+Холод_витрина+Мебель+Касса+Инвентарь+Открытие)*Резерв_сметы -> 327000
A14: Возвратный депозит | B14: =Аренда*Депозит_месяцев -> 90000
A15: Стартовый запас | B15: =Запас_сырья -> 60000
A16: Итого | B16: =SUM(B5:B15) -> 2657000
A18: Что проверить до аренды
A19: Выделенная электрическая мощность, вентиляция, вода, канализация, возможность общепита, требования к помещению и стоимость переделок. Стартовая смета не заменяет осмотр технологом.

Sheet Вводные
A1: Все исходные цифры
A2: Меняйте синие значения на жёлтом фоне. Денежные суммы в рублях.
A4: Параметр | B4: Значение | C4: Пояснение и источник
A5: Средний чек | B5: 390 | C5: Допущение: напиток и выпечка, цена для гостя, включая возможный НДС.
A6: Гости старт | B6: 65 | C6: Допущение: оплаченных чеков в день в январе, а не уникальных людей.
A7: Рост первые | B7: 0.07 | C7: Допущение: рост базы гостей февраль–июнь, без сезонности.
A8: Рост далее | B8: 0.03 | C8: Допущение: рост базы гостей июль–декабрь.
A9: Рост чека | B9: 0 | C9: Допущение: ежемесячная индексация цен, в базе отсутствует.
A10: Открытых дней | B10: 1 | C10: Доля календарных дней работы; 100 % — без выходных.
A11: Сырье | B11: 0.32 | C11: Допущение: продукты и кофе от кассовой выручки; цены поставщиков с налогами.
A12: Упаковка | B12: 0.03 | C12: Допущение: от кассовой выручки.
A13: Списания | B13: 0.02 | C13: Дополнительная потеря сырья сверх 32 %, доля кассовой выручки.
A14: Эквайринг | B14: 0.018 | C14: Средняя комиссия от всей выручки с учётом наличных и СБП.
A15: Аренда | B15: 90000 | C15: Ориентир: 60 м² × 1 500 ₽/м²; объявление Авито, см. справку.
A16: Бариста шт | B16: 2 | C16: Смены 2/2, по одному бариста в смене.
... A31: Денежная подушка | B31: 300000 | C31: Дополнительный свободный запас сверх покрытия убытков и налоговых резервов.
A33: Что здесь является оценкой
A34: Цены и посещаемость — рабочие допущения, а не среднерыночная статистика. Зарплаты начисленные: НДФЛ удерживается из них и не прибавляется повторно. Зарплаты и взносы в управленческом бюджете оплачиваются в том же месяце. Фактические сроки перечислений бухгалтер уточнит отдельно.
A37: Сезонность
A38: Коэффициент умножается на растущую базу гостей. 1 — обычный месяц, 0,9 — на 10 % ниже. Январская база уже учитывает старт.
A40: Параметр | B40: Значение | C40: Пояснение и источник
A41: Сезон 01 | B41: 1 | C41: Допущение: сезонный коэффициент, не процент роста.
A42: Сезон 02 | B42: 1 | C42: Допущение: сезонный коэффициент, не процент роста.
A43: Сезон 03 | B43: 1.03 | C43: Допущение: сезонный коэффициент, не процент роста.
A44: Сезон 04 | B44: 1.05 | C44: Допущение: сезонный коэффициент, не процент роста.
A45: Сезон 05 | B45: 1.05 | C45: Допущение: сезонный коэффициент, не процент роста.
A46: Сезон 06 | B46: 0.95 | C46: Допущение: сезонный коэффициент, не процент роста.
A47: Сезон 07 | B47: 0.9 | C47: Допущение: сезонный коэффициент, не процент роста.
A48: Сезон 08 | B48: 0.95 | C48: Допущение: сезонный коэффициент, не процент роста.
A49: Сезон 09 | B49: 1.08 | C49: Допущение: сезонный коэффициент, не процент роста.
A50: Сезон 10 | B50: 1.1 | C50: Допущение: сезонный коэффициент, не процент роста.
A51: Сезон 11 | B51: 1.1 | C51: Допущение: сезонный коэффициент, не процент роста.
A52: Сезон 12 | B52: 1.15 | C52: Допущение: сезонный коэффициент, не процент роста.
A55: Бюджет до открытия
A56: Вложения до января 2027 года; аренда за январь остаётся в ежемесячных расходах.
A58: Параметр | B58: Значение | C58: Пояснение и источник
A59: Ремонт | B59: 650000 | C59: Отделка, вентиляция, электрика и вода; проверить мощность и требования до договора.
A60: Печь и тестомес | B60: 600000 | C60: Компактная печь, расстойка, тестомес; оценка, возможно частично б/у.
A61: Кофе комплект | B61: 400000 | C61: Кофемашина, кофемолка и водоподготовка; не аренда оборудования.
A62: Холод витрина | B62: 200000 | C62: Холодильник, морозильник и витрина.
...

Sheet Продажи
A1: Продажи по месяцам
A2: Гость в модели — один оплаченный чек. Сезонность меняется на листе «Вводные».
A4: Месяц | B4: Номер | C4: Рабочие дни | D4: Сезон | E4: Гостей в день | F4: Чек | G4: Чеков | H4: Выручка | I4: Выручка с января | J4: НДС начислен
A5: 46388 | B5: =MONTH($A5) -> 1 | C5: =ROUND(DAY(DATE(YEAR($A5),MONTH($A5)+1,0))*Открытых_дней,0) -> 31 | D5: =Сезон_01 -> 1 | E5: =ROUND(Гости_старт*(1+Рост_первые)^MIN(B5-1,5)*(1+Рост_далее)^MAX(B5-6,0)*D5,1) -> 65 | F5: =Средний_чек*(1+Рост_чека)^(B5-1) -> 390 | G5: =C5*E5 -> 2015 | H5: =G5*F5 -> 785850 | I5: =0+H5 -> 785850 | J5: =IF(AND(0>Порог_НДС,Льгота_общепит=0),H5*Ставка_НДС/(1+Ставка_НДС),0) -> 0
A6: 46419 | B6: =MONTH($A6) -> 2 | C6: =ROUND(DAY(DATE(YEAR($A6),MONTH($A6)+1,0))*Открытых_дней,0) -> 28 | D6: =Сезон_02 -> 1 | E6: =ROUND(Гости_старт*(1+Рост_первые)^MIN(B6-1,5)*(1+Рост_далее)^MAX(B6-6,0)*D6,1) -> 69.6 | F6: =Средний_чек*(1+Рост_чека)^(B6-1) -> 390 | G6: =C6*E6 -> 1948.8 | H6: =G6*F6 -> 760032 | I6: =I5+H6 -> 1545882 | J6: =IF(AND(I5>Порог_НДС,Льгота_общепит=0),H6*Ставка_НДС/(1+Ставка_НДС),0) -> 0
A7: 46447 | B7: =MONTH($A7) -> 3 | C7: =ROUND(DAY(DATE(YEAR($A7),MONTH($A7)+1,0))*Открытых_дней,0) -> 31 | D7: =Сезон_03 -> 1.03 | E7: =ROUND(Гости_старт*(1+Рост_первые)^MIN(B7-1,5)*(1+Рост_далее)^MAX(B7-6,0)*D7,1) -> 76.7 | F7: =Средний_чек*(1+Рост_чека)^(B7-1) -> 390 | G7: =C7*E7 -> 2377.7 | H7: =G7*F7 -> 927303 | I7: =I6+H7 -> 2473185 | J7: =IF(AND(I6>Порог_НДС,Льгота_общепит=0),H7*Ставка_НДС/(1+Ставка_НДС),0) -> 0
A8: 46478 | B8: =MONTH($A8) -> 4 | C8: =ROUND(DAY(DATE(YEAR($A8),MONTH($A8)+1,0))*Открытых_дней,0) -> 30 | D8: =Сезон_04 -> 1.05 | E8: =ROUND(Гости_старт*(1+Рост_первые)^MIN(B8-1,5)*(1+Рост_далее)^MAX(B8-6,0)*D8,1) -> 83.6 | F8: =Средний_чек*(1+Рост_чека)^(B8-1) -> 390 | G8: =C8*E8 -> 2508 | H8: =G8*F8 -> 978120 | I8: =I7+H8 -> 3451305 | J8: =IF(AND(I7>Порог_НДС,Льгота_общепит=0),H8*Ставка_НДС/(1+Ставка_НДС),0) -> 0
A9: 46508 | B9: =MONTH($A9) -> 5 | C9: =ROUND(DAY(DATE(YEAR($A9),MONTH($A9)+1,0))*Открытых_дней,0) -> 31 | D9: =Сезон_05 -> 1.05 | E9: =ROUND(Гости_старт*(1+Рост_первые)^MIN(B9-1,5)*(1+Рост_далее)^MAX(B9-6,0)*D9,1) -> 89.5 | F9: =Средний_чек*(1+Рост_чека)^(B9-1) -> 390 | G9: =C9*E9 -> 2774.5 | H9: =G9*F9 -> 1082055 | I9: =I8+H9 -> 4533360 | J9: =IF(AND(I8>Порог_НДС,Льгота_общепит=0),H9*Ставка_НДС/(1+Ставка_НДС),0) -> 0
A10: 46539 | B10: =MONTH($A10) -> 6 | C10: =ROUND(DAY(DATE(YEAR($A10),MONTH($A10)+1,0))*Открытых_дней,0) -> 30 | D10: =Сезон_06 -> 0.95 | E10: =ROUND(Гости_старт*(1+Рост_первые)^MIN(B10-1,5)*(1+Рост_далее)^MAX(B10-6,0)*D10,1) -> 86.6 | F10: =Средний_чек*(1+Рост_чека)^(B10-1) -> 390 | G10: =C10*E10 -> 2598 | H10: =G10*F10 -> 1013220 | I10: =I9+H10 -> 5546580 | J10: =IF(AND(I9>Порог_НДС,Льгота_общепит=0),H10*Ставка_НДС/(1+Ставка_НДС),0) -> 0
A11: 46569 | B11: =MONTH($A11) -> 7 | C11: =ROUND(DAY(DATE(YEAR($A11),MONTH($A11)+1,0))*Открытых_дней,0) -> 31 | D11: =Сезон_07 -> 0.9 | E11: =ROUND(Гости_старт*(1+Рост_первые)^MIN(B11-1,5)*(1+Рост_далее)^MAX(B11-6,0)*D11,1) -> 84.5 | F11: =Средний_чек*(1+Рост_чека)^(B11-1) -> 390 | G11: =C11*E11 -> 2619.5 | H11: =G11*F11 -> 1021605 | I11: =I10+H11 -> 6568185 | J11: =IF(AND(I10>Порог_НДС,Льгота_общепит=0),H11*Ставка_НДС/(1+Ставка_НДС),0) -> 0
A12: 46600 | B12: =MONTH($A12) -> 8 | C12: =ROUND(DAY(DATE(YEAR($A12),MONTH($A12)+1,0))*Открытых_дней,0) -> 31 | D12: =Сезон_08 -> 0.95 | E12: =ROUND(Гости_старт*(1+Рост_первые)^MIN(B12-1,5)*(1+Рост_далее)^MAX(B12-6,0)*D12,1) -> 91.9 | F12: =Средний_чек*(1+Рост_чека)^(B12-1) -> 390 | G12: =C12*E12 -> 2848.9 | H12: =G12*F12 -> 1111071 | I12: =I11+H12 -> 7679256 | J12: =IF(AND(I11>Порог_НДС,Льгота_общепит=0),H12*Ставка_НДС/(1+Ставка_НДС),0) -> 0
A13: 46631 | B13: =MONTH($A13) -> 9 | C13: =ROUND(DAY(DATE(YEAR($A13),MONTH($A13)+1,0))*Открытых_дней,0) -> 30 | D13: =Сезон_09 -> 1.08 | E13: =ROUND(Гости_старт*(1+Рост_первые)^MIN(B13-1,5)*(1+Рост_далее)^MAX(B13-6,0)*D13,1) -> 107.6 | F13: =Средний_чек*(1+Рост_чека)^(B13-1) -> 390 | G13: =C13*E13 -> 3228 | H13: =G13*F13 -> 1258920 | I13: =I12+H13 -> 8938176 | J13: =IF(AND(I12>Порог_НДС,Льгота_общепит=0),H13*Ставка_НДС/(1+Ставка_НДС),0) -> 0
A14: 46661 | B14: =MONTH($A14) -> 10 | C14: =ROUND(DAY(DATE(YEAR($A14),MONTH($A14)+1,0))*Открытых_дней,0) -> 31 | D14: =Сезон_10 -> 1.1 | E14: =ROUND(Гости_старт*(1+Рост_первые)^MIN(B14-1,5)*(1+Рост_далее)^MAX(B14-6,0)*D14,1) -> 112.9 | F14: =Средний_чек*(1+Рост_чека)^(B14-1) -> 390 | G14: =C14*E14 -> 3499.9 | H14: =G14*F14 -> 1364961 | I14: =I13+H14 -> 10303137 | J14: =IF(AND(I13>Порог_НДС,Льгота_общепит=0),H14*Ставка_НДС/(1+Ставка_НДС),0) -> 0
A15: 46692 | B15: =MONTH($A15) -> 11 | C15: =ROUND(DAY(DATE(YEAR($A15),MONTH($A15)+1,0))*Открытых_дней,0) -> 30 | D15: =Сезон_11 -> 1.1 | E15: =ROUND(Гости_старт*(1+Рост_первые)^MIN(B15-1,5)*(1+Рост_далее)^MAX(B15-6,0)*D15,1) -> 116.3 | F15: =Средний_чек*(1+Рост_чека)^(B15-1) -> 390 | G15: =C15*E15 -> 3489 | H15: =G15*F15 -> 1360710 | I15: =I14+H15 -> 11663847 | J15: =IF(AND(I14>Порог_НДС,Льгота_общепит=0),H15*Ставка_НДС/(1+Ставка_НДС),0) -> 0
A16: 46722 | B16: =MONTH($A16) -> 12 | C16: =ROUND(DAY(DATE(YEAR($A16),MONTH($A16)+1,0))*Открытых_дней,0) -> 31 | D16: =Сезон_12 -> 1.15 | E16: =ROUND(Гости_старт*(1+Рост_первые)^MIN(B16-1,5)*(1+Рост_далее)^MAX(B16-6,0)*D16,1) -> 125.2 | F16: =Средний_чек*(1+Рост_чека)^(B16-1) -> 390 | G16: =C16*E16 -> 3881.2 | H16: =G16*F16 -> 1513668 | I16: =I15+H16 -> 13177515 | J16: =IF(AND(I15>Порог_НДС,Льгота_общепит=0),H16*Ставка_НДС/(1+Ставка_НДС),0) -> 0

Sheet Расходы
A1: Ежемесячные расходы
A2: Закупки включают пополнение использованного сырья. Остаток стартового запаса не списывается второй раз.
A4: Месяц | B4: Сырьё | C4: Упаковка | D4: Списания | E4: Эквайринг | F4: Аренда | G4: Зарплаты | H4: Взносы | I4: Коммунальные | J4: Маркетинг | K4: Прочие | L4: Всего без налогов
A5: 46388 | B5: =INDEX('Продажи'!$H$5:$H$16,MONTH($A5))*Сырье -> 251472 | C5: =INDEX('Продажи'!$H$5:$H$16,MONTH($A5))*Упаковка -> 23575.5 | D5: =INDEX('Продажи'!$H$5:$H$16,MONTH($A5))*Списания -> 15717 | E5: =INDEX('Продажи'!$H$5:$H$16,MONTH($A5))*Эквайринг -> 14145.3 | F5: =Аренда -> 90000 | G5: =Бариста_шт*Бариста_оклад+Пекари_шт*Пекарь_оклад+Основатели_шт*Основатель_оклад -> 310000 | H5: =G5*Ставка_взносов -> 93620 | I5: =Коммунальные -> 30000 | J5: =Маркетинг -> 15000 | K5: =Прочие -> 25000 | L5: =B5+C5+D5+E5+F5+G5+H5+I5+J5+K5 -> 868529.8
A6: 46419 | B6: =INDEX('Продажи'!$H$5:$H$16,MONTH($A6))*Сырье -> 243210.24 | C6: =INDEX('Продажи'!$H$5:$H$16,MONTH($A6))*Упаковка -> 22800.96 | D6: =INDEX('Продажи'!$H$5:$H$16,MONTH($A6))*Списания -> 15200.64 | E6: =INDEX('Продажи'!$H$5:$H$16,MONTH($A6))*Эквайринг -> 13680.576 | F6: =Аренда -> 90000 | G6: =Бариста_шт*Бариста_оклад+Пекари_шт*Пекарь_оклад+Основатели_шт*Основатель_оклад -> 310000 | H6: =G6*Ставка_взносов -> 93620 | I6: =Коммунальные -> 30000 | J6: =Маркетинг -> 15000 | K6: =Прочие -> 25000 | L6: =B6+C6+D6+E6+F6+G6+H6+I6+J6+K6 -> 858512.42
A7: 46447 | B7: =INDEX('Продажи'!$H$5:$H$16,MONTH($A7))*Сырье -> 296736.96 | C7: =INDEX('Продажи'!$H$5:$H$16,MONTH($A7))*Упаковка -> 27819.09 | D7: =INDEX('Продажи'!$H$5:$H$16,MONTH($A7))*Списания -> 18546.06 | E7: =INDEX('Продажи'!$H$5:$H$16,MONTH($A7))*Эквайринг -> 16691.454 | F7: =Аренда -> 90000 | G7: =Бариста_шт*Бариста_оклад+Пекари_шт*Пекарь_оклад+Основатели_шт*Основатель_оклад -> 310000 | H7: =G7*Ставка_взносов -> 93620 | I7: =Коммунальные -> 30000 | J7: =Маркетинг -> 15000 | K7: =Прочие -> 25000 | L7: =B7+C7+D7+E7+F7+G7+H7+I7+J7+K7 -> 923413.56
A8: 46478 | B8: =INDEX('Продажи'!$H$5:$H$16,MONTH($A8))*Сырье -> 312998.4 | C8: =INDEX('Продажи'!$H$5:$H$16,MONTH($A8))*Упаковка -> 29343.6 | D8: =INDEX('Продажи'!$H$5:$H$16,MONTH($A8))*Списания -> 19562.4 | E8: =INDEX('Продажи'!$H$5:$H$16,MONTH($A8))*Эквайринг -> 17606.16 | F8: =Аренда -> 90000 | G8: =Бариста_шт*Бариста_оклад+Пекари_шт*Пекарь_оклад+Основатели_шт*Основатель_оклад -> 310000 | H8: =G8*Ставка_взносов -> 93620 | I8: =Коммунальные -> 30000 | J8: =Маркетинг -> 15000 | K8: =Прочие -> 25000 | L8: =B8+C8+D8+E8+F8+G8+H8+I8+J8+K8 -> 943130.56
A9: 46508 | B9: =INDEX('Продажи'!$H$5:$H$16,MONTH($A9))*Сырье -> 346257.6 | C9: =INDEX('Продажи'!$H$5:$H$16,MONTH($A9))*Упаковка -> 32461.65 | D9: =INDEX('Продажи'!$H$5:$H$16,MONTH($A9))*Списания -> 21641.1 | E9: =INDEX('Продажи'!$H$5:$H$16,MONTH($A9))*Эквайринг -> 19476.99 | F9: =Аренда -> 90000 | G9: =Бариста_шт*Бариста_оклад+Пекари_шт*Пекарь_оклад+Основатели_шт*Основатель_оклад -> 310000 | H9: =G9*Ставка_взносов -> 93620 | I9: =Коммунальные -> 30000 | J9: =Маркетинг -> 15000 | K9: =Прочие -> 25000 | L9: =B9+C9+D9+E9+F9+G9+H9+I9+J9+K9 -> 983457.34
A10: 46539 | B10: =INDEX('Продажи'!$H$5:$H$16,MONTH($A10))*Сырье -> 324230.4 | C10: =INDEX('Продажи'!$H$5:$H$16,MONTH($A10))*Упаковка -> 30396.6 | D10: =INDEX('Продажи'!$H$5:$H$16,MONTH($A10))*Списания -> 20264.4 | E10: =INDEX('Продажи'!$H$5:$H$16,MONTH($A10))*Эквайринг -> 18237.96 | F10: =Аренда -> 90000 | G10: =Бариста_шт*Бариста_оклад+Пекари_шт*Пекарь_оклад+Основатели_шт*Основатель_оклад -> 310000 | H10: =G10*Ставка_взносов -> 93620 | I10: =Коммунальные -> 30000 | J10: =Маркетинг -> 15000 | K10: =Прочие -> 25000 | L10: =B10+C10+D10+E10+F10+G10+H10+I10+J10+K10 -> 956749.36
A11: 46569 | B11: =INDEX('Продажи'!$H$5:$H$16,MONTH($A11))*Сырье -> 326913.6 | C11: =INDEX('Продажи'!$H$5:$H$16,MONTH($A11))*Упаковка -> 30648.15 | D11: =INDEX('Продажи'!$H$5:$H$16,MONTH($A11))*Списания -> 20432.1 | E11: =INDEX('Продажи'!$H$5:$H$16,MONTH($A11))*Эквайринг -> 18388.89 | F11: =Аренда -> 90000 | G11: =Бариста_шт*Бариста_оклад+Пекари_шт*Пекарь_оклад+Основатели_шт*Основатель_оклад -> 310000 | H11: =G11*Ставка_взносов -> 93620 | I11: =Коммунальные -> 30000 | J11: =Маркетинг -> 15000 | K11: =Прочие -> 25000 | L11: =B11+C11+D11+E11+F11+G11+H11+I11+J11+K11 -> 960002.74
A12: 46600 | B12: =INDEX('Продажи'!$H$5:$H$16,MONTH($A12))*Сырье -> 355542.72 | C12: =INDEX('Продажи'!$H$5:$H$16,MONTH($A12))*Упаковка -> 33332.13 | D12: =INDEX('Продажи'!$H$5:$H$16,MONTH($A12))*Списания -> 22221.42 | E12: =INDEX('Продажи'!$H$5:$H$16,MONTH($A12))*Эквайринг -> 19999.278 | F12: =Аренда -> 90000 | G12: =Бариста_шт*Бариста_оклад+Пекари_шт*Пекарь_оклад+Основатели_шт*Основатель_оклад -> 310000 | H12: =G12*Ставка_взносов -> 93620 | I12: =Коммунальные -> 30000 | J12: =Маркетинг -> 15000 | K12: =Прочие -> 25000 | L12: =B12+C12+D12+E12+F12+G12+H12+I12+J12+K12 -> 994715.55
A13: 46631 | B13: =INDEX('Продажи'!$H$5:$H$16,MONTH($A13))*Сырье -> 402854.4 | C13: =INDEX('Продажи'!$H$5:$H$16,MONTH($A13))*Упаковка -> 37767.6 | D13: =INDEX('Продажи'!$H$5:$H$16,MONTH($A13))*Списания -> 25178.4 | E13: =INDEX('Продажи'!$H$5:$H$16,MONTH($A13))*Эквайринг -> 22660.56 | F13: =Аренда -> 90000 | G13: =Бариста_шт*Бариста_оклад+Пекари_шт*Пекарь_оклад+Основатели_шт*Основатель_оклад -> 310000 | H13: =G13*Ставка_взносов -> 93620 | I13: =Коммунальные -> 30000 | J13: =Маркетинг -> 15000 | K13: =Прочие -> 25000 | L13: =B13+C13+D13+E13+F13+G13+H13+I13+J13+K13 -> 1052081
A14: 46661 | B14: =INDEX('Продажи'!$H$5:$H$16,MONTH($A14))*Сырье -> 436787.52 | C14: =INDEX('Продажи'!$H$5:$H$16,MONTH($A14))*Упаковка -> 40948.83 | D14: =INDEX('Продажи'!$H$5:$H$16,MONTH($A14))*Списания -> 27299.22 | E14: =INDEX('Продажи'!$H$5:$H$16,MONTH($A14))*Эквайринг -> 24569.298 | F14: =Аренда -> 90000 | G14: =Бариста_шт*Бариста_оклад+Пекари_шт*Пекарь_оклад+Основатели_шт*Основатель_оклад -> 310000 | H14: =G14*Ставка_взносов -> 93620 | I14: =Коммунальные -> 30000 | J14: =Маркетинг -> 15000 | K14: =Прочие -> 25000 | L14: =B14+C14+D14+E14+F14+G14+H14+I14+J14+K14 -> 1093224.9
A15: 46692 | B15: =INDEX('Продажи'!$H$5:$H$16,MONTH($A15))*Сырье -> 435427.2 | C15: =INDEX('Продажи'!$H$5:$H$16,MONTH($A15))*Упаковка -> 40821.3 | D15: =INDEX('Продажи'!$H$5:$H$16,MONTH($A15))*Списания -> 27214.2 | E15: =INDEX('Продажи'!$H$5:$H$16,MONTH($A15))*Эквайринг -> 24492.78 | F15: =Аренда -> 90000 | G15: =Бариста_шт*Бариста_оклад+Пекари_шт*Пекарь_оклад+Основатели_шт*Основатель_оклад -> 310000 | H15: =G15*Ставка_взносов -> 93620 | I15: =Коммунальные -> 30000 | J15: =Маркетинг -> 15000 | K15: =Прочие -> 25000 | L15: =B15+C15+D15+E15+F15+G15+H15+I15+J15+K15 -> 1091575.5
A16: 46722 | B16: =INDEX('Продажи'!$H$5:$H$16,MONTH($A16))*Сырье -> 484373.76 | C16: =INDEX('Продажи'!$H$5:$H$16,MONTH($A16))*Упаковка -> 45410.04 | D16: =INDEX('Продажи'!$H$5:$H$16,MONTH($A16))*Списания -> 30273.36 | E16: =INDEX('Продажи'!$H$5:$H$16,MONTH($A16))*Эквайринг -> 27246.024 | F16: =Аренда -> 90000 | G16: =Бариста_шт*Бариста_оклад+Пекари_шт*Пекарь_оклад+Основатели_шт*Основатель_оклад -> 310000 | H16: =G16*Ставка_взносов -> 93620 | I16: =Коммунальные -> 30000 | J16: =Маркетинг -> 15000 | K16: =Прочие -> 25000 | L16: =B16+C16+D16+E16+F16+G16+H16+I16+J16+K16 -> 1150923.2

Sheet Прибыль
A1: Прибыль и выход в ноль
A2: Управленческая прибыль после налогов, до амортизации, кредитов и дивидендов. Зарплаты обоих основателей учтены.
A4: Месяц | B4: Выручка | C4: Расходы | D4: НДС | E4: УСН начислен | F4: Прибыль | G4: Результат с января | H4: Возврат вложений | I4: Первый плюс | J4: Окупилось
A5: 46388 | B5: =INDEX('Продажи'!$H$5:$H$16,MONTH($A5)) -> 785850 | C5: =INDEX('Расходы'!$L$5:$L$16,MONTH($A5)) -> 868529.8 | D5: =INDEX('Продажи'!$J$5:$J$16,MONTH($A5)) -> 0 | E5: =MAX((B5-D5)*УСН_ставка-INDEX('Расходы'!$H$5:$H$16,MONTH($A5)),(B5-D5)*УСН_ставка*(1-Вычет_лимит)) -> 23575.5 | F5: =B5-C5-D5-E5 -> -106255.3 | G5: =0+F5 -> -106255.3 | H5: =G5-Старт_всего -> -2763255.3 | I5: =IF(F5>=0,$A5,0) -> 0 | J5: =IF(H5>=0,$A5,0) -> 0
A6: 46419 | B6: =INDEX('Продажи'!$H$5:$H$16,MONTH($A6)) -> 760032 | C6: =INDEX('Расходы'!$L$5:$L$16,MONTH($A6)) -> 858512.42 | D6: =INDEX('Продажи'!$J$5:$J$16,MONTH($A6)) -> 0 | E6: =MAX((B6-D6)*УСН_ставка-INDEX('Расходы'!$H$5:$H$16,MONTH($A6)),(B6-D6)*УСН_ставка*(1-Вычет_лимит)) -> 22800.96 | F6: =B6-C6-D6-E6 -> -121281.38 | G6: =G5+F6 -> -227536.68 | H6: =G6-Старт_всего -> -2884536.7 | I6: =IF(F6>=0,$A6,0) -> 0 | J6: =IF(H6>=0,$A6,0) -> 0
A7: 46447 | B7: =INDEX('Продажи'!$H$5:$H$16,MONTH($A7)) -> 927303 | C7: =INDEX('Расходы'!$L$5:$L$16,MONTH($A7)) -> 923413.56 | D7: =INDEX('Продажи'!$J$5:$J$16,MONTH($A7)) -> 0 | E7: =MAX((B7-D7)*УСН_ставка-INDEX('Расходы'!$H$5:$H$16,MONTH($A7)),(B7-D7)*УСН_ставка*(1-Вычет_лимит)) -> 27819.09 | F7: =B7-C7-D7-E7 -> -23929.654 | G7: =G6+F7 -> -251466.33 | H7: =G7-Старт_всего -> -2908466.3 | I7: =IF(F7>=0,$A7,0) -> 0 | J7: =IF(H7>=0,$A7,0) -> 0
A8: 46478 | B8: =INDEX('Продажи'!$H$5:$H$16,MONTH($A8)) -> 978120 | C8: =INDEX('Расходы'!$L$5:$L$16,MONTH($A8)) -> 943130.56 | D8: =INDEX('Продажи'!$J$5:$J$16,MONTH($A8)) -> 0 | E8: =MAX((B8-D8)*УСН_ставка-INDEX('Расходы'!$H$5:$H$16,MONTH($A8)),(B8-D8)*УСН_ставка*(1-Вычет_лимит)) -> 29343.6 | F8: =B8-C8-D8-E8 -> 5645.84 | G8: =G7+F8 -> -245820.49 | H8: =G8-Старт_всего -> -2902820.5 | I8: =IF(F8>=0,$A8,0) -> 46478 | J8: =IF(H8>=0,$A8,0) -> 0
A9: 46508 | B9: =INDEX('Продажи'!$H$5:$H$16,MONTH($A9)) -> 1082055 | C9: =INDEX('Расходы'!$L$5:$L$16,MONTH($A9)) -> 983457.34 | D9: =INDEX('Продажи'!$J$5:$J$16,MONTH($A9)) -> 0 | E9: =MAX((B9-D9)*УСН_ставка-INDEX('Расходы'!$H$5:$H$16,MONTH($A9)),(B9-D9)*УСН_ставка*(1-Вычет_лимит)) -> 32461.65 | F9: =B9-C9-D9-E9 -> 66136.01 | G9: =G8+F9 -> -179684.48 | H9: =G9-Старт_всего -> -2836684.5 | I9: =IF(F9>=0,$A9,0) -> 46508 | J9: =IF(H9>=0,$A9,0) -> 0
A10: 46539 | B10: =INDEX('Продажи'!$H$5:$H$16,MONTH($A10)) -> 1013220 | C10: =INDEX('Расходы'!$L$5:$L$16,MONTH($A10)) -> 956749.36 | D10: =INDEX('Продажи'!$J$5:$J$16,MONTH($A10)) -> 0 | E10: =MAX((B10-D10)*УСН_ставка-INDEX('Расходы'!$H$5:$H$16,MONTH($A10)),(B10-D10)*УСН_ставка*(1-Вычет_лимит)) -> 30396.6 | F10: =B10-C10-D10-E10 -> 26074.04 | G10: =G9+F10 -> -153610.44 | H10: =G10-Старт_всего -> -2810610.4 | I10: =IF(F10>=0,$A10,0) -> 46539 | J10: =IF(H10>=0,$A10,0) -> 0
A11: 46569 | B11: =INDEX('Продажи'!$H$5:$H$16,MONTH($A11)) -> 1021605 | C11: =INDEX('Расходы'!$L$5:$L$16,MONTH($A11)) -> 960002.74 | D11: =INDEX('Продажи'!$J$5:$J$16,MONTH($A11)) -> 0 | E11: =MAX((B11-D11)*УСН_ставка-INDEX('Расходы'!$H$5:$H$16,MONTH($A11)),(B11-D11)*УСН_ставка*(1-Вычет_лимит)) -> 30648.15 | F11: =B11-C11-D11-E11 -> 30954.11 | G11: =G10+F11 -> -122656.33 | H11: =G11-Старт_всего -> -2779656.3 | I11: =IF(F11>=0,$A11,0) -> 46569 | J11: =IF(H11>=0,$A11,0) -> 0
A12: 46600 | B12: =INDEX('Продажи'!$H$5:$H$16,MONTH($A12)) -> 1111071 | C12: =INDEX('Расходы'!$L$5:$L$16,MONTH($A12)) -> 994715.55 | D12: =INDEX('Продажи'!$J$5:$J$16,MONTH($A12)) -> 0 | E12: =MAX((B12-D12)*УСН_ставка-INDEX('Расходы'!$H$5:$H$16,MONTH($A12)),(B12-D12)*УСН_ставка*(1-Вычет_лимит)) -> 33332.13 | F12: =B12-C12-D12-E12 -> 83023.322 | G12: =G11+F12 -> -39633.008 | H12: =G12-Старт_всего -> -2696633 | I12: =IF(F12>=0,$A12,0) -> 46600 | J12: =IF(H12>=0,$A12,0) -> 0
A13: 46631 | B13: =INDEX('Продажи'!$H$5:$H$16,MONTH($A13)) -> 1258920 | C13: =INDEX('Расходы'!$L$5:$L$16,MONTH($A13)) -> 1052081 | D13: =INDEX('Продажи'!$J$5:$J$16,MONTH($A13)) -> 0 | E13: =MAX((B13-D13)*УСН_ставка-INDEX('Расходы'!$H$5:$H$16,MONTH($A13)),(B13-D13)*УСН_ставка*(1-Вычет_лимит)) -> 37767.6 | F13: =B13-C13-D13-E13 -> 169071.44 | G13: =G12+F13 -> 129438.43 | H13: =G13-Старт_всего -> -2527561.6 | I13: =IF(F13>=0,$A13,0) -> 46631 | J13: =IF(H13>=0,$A13,0) -> 0
A14: 46661 | B14: =INDEX('Продажи'!$H$5:$H$16,MONTH($A14)) -> 1364961 | C14: =INDEX('Расходы'!$L$5:$L$16,MONTH($A14)) -> 1093224.9 | D14: =INDEX('Продажи'!$J$5:$J$16,MONTH($A14)) -> 0 | E14: =MAX((B14-D14)*УСН_ставка-INDEX('Расходы'!$H$5:$H$16,MONTH($A14)),(B14-D14)*УСН_ставка*(1-Вычет_лимит)) -> 40948.83 | F14: =B14-C14-D14-E14 -> 230787.3 | G14: =G13+F14 -> 360225.73 | H14: =G14-Старт_всего -> -2296774.3 | I14: =IF(F14>=0,$A14,0) -> 46661 | J14: =IF(H14>=0,$A14,0) -> 0
A15: 46692 | B15: =INDEX('Продажи'!$H$5:$H$16,MONTH($A15)) -> 1360710 | C15: =INDEX('Расходы'!$L$5:$L$16,MONTH($A15)) -> 1091575.5 | D15: =INDEX('Продажи'!$J$5:$J$16,MONTH($A15)) -> 0 | E15: =MAX((B15-D15)*УСН_ставка-INDEX('Расходы'!$H$5:$H$16,MONTH($A15)),(B15-D15)*УСН_ставка*(1-Вычет_лимит)) -> 40821.3 | F15: =B15-C15-D15-E15 -> 228313.22 | G15: =G14+F15 -> 588538.95 | H15: =G15-Старт_всего -> -2068461 | I15: =IF(F15>=0,$A15,0) -> 46692 | J15: =IF(H15>=0,$A15,0) -> 0
A16: 46722 | B16: =INDEX('Продажи'!$H$5:$H$16,MONTH($A16)) -> 1513668 | C16: =INDEX('Расходы'!$L$5:$L$16,MONTH($A16)) -> 1150923.2 | D16: =INDEX('Продажи'!$J$5:$J$16,MONTH($A16)) -> 0 | E16: =MAX((B16-D16)*УСН_ставка-INDEX('Расходы'!$H$5:$H$16,MONTH($A16)),(B16-D16)*УСН_ставка*(1-Вычет_лимит)) -> 45410.04 | F16: =B16-C16-D16-E16 -> 317334.78 | G16: =G15+F16 -> 905873.73 | H16: =G16-Старт_всего -> -1751126.3 | I16: =IF(F16>=0,$A16,0) -> 46722 | J16: =IF(H16>=0,$A16,0) -> 0

Sheet Деньги
A1: Деньги и налоговый резерв
A2: УСН: авансы в апреле, июле, октябре; остаток за год в 2028 году. НДС: по 1/3 прошлого квартала ежемесячно. | L2: =Старт_всего+MAX(0,-MIN('Прибыль'!$G$5:$G$16))+Денежная_подушка -> 3208466.3
A4: Месяц | B4: Поступления | C4: Расходы | D4: УСН уплачен | E4: НДС уплачен | F4: Поток | G4: Остаток на счёте | H4: Резерв налогов | I4: Свободные деньги
A5: 46388 | B5: =INDEX('Продажи'!$H$5:$H$16,MONTH($A5)) -> 785850 | C5: =INDEX('Расходы'!$L$5:$L$16,MONTH($A5)) -> 868529.8 | D5: =0 -> 0 | E5: =0 -> 0 | F5: =B5-C5-D5-E5 -> -82679.8 | G5: =Нужно_денег-Старт_всего+F5 -> 468786.53 | H5: =0+INDEX('Прибыль'!$E$5:$E$16,MONTH($A5))+INDEX('Продажи'!$J$5:$J$16,MONTH($A5))-D5-E5 -> 23575.5 | I5: =G5-H5 -> 445211.03
A6: 46419 | B6: =INDEX('Продажи'!$H$5:$H$16,MONTH($A6)) -> 760032 | C6: =INDEX('Расходы'!$L$5:$L$16,MONTH($A6)) -> 858512.42 | D6: =0 -> 0 | E6: =0 -> 0 | F6: =B6-C6-D6-E6 -> -98480.416 | G6: =G5+F6 -> 370306.11 | H6: =H5+INDEX('Прибыль'!$E$5:$E$16,MONTH($A6))+INDEX('Продажи'!$J$5:$J$16,MONTH($A6))-D6-E6 -> 46376.46 | I6: =G6-H6 -> 323929.65
A7: 46447 | B7: =INDEX('Продажи'!$H$5:$H$16,MONTH($A7)) -> 927303 | C7: =INDEX('Расходы'!$L$5:$L$16,MONTH($A7)) -> 923413.56 | D7: =0 -> 0 | E7: =0 -> 0 | F7: =B7-C7-D7-E7 -> 3889.436 | G7: =G6+F7 -> 374195.55 | H7: =H6+INDEX('Прибыль'!$E$5:$E$16,MONTH($A7))+INDEX('Продажи'!$J$5:$J$16,MONTH($A7))-D7-E7 -> 74195.55 | I7: =G7-H7 -> 300000
A8: 46478 | B8: =INDEX('Продажи'!$H$5:$H$16,MONTH($A8)) -> 978120 | C8: =INDEX('Расходы'!$L$5:$L$16,MONTH($A8)) -> 943130.56 | D8: =INDEX('Прибыль'!$E$5:$E$16,1)+INDEX('Прибыль'!$E$5:$E$16,2)+INDEX('Прибыль'!$E$5:$E$16,3) -> 74195.55 | E8: =(INDEX('Продажи'!$J$5:$J$16,1)+INDEX('Продажи'!$J$5:$J$16,2)+INDEX('Продажи'!$J$5:$J$16,3))/3 -> 0 | F8: =B8-C8-D8-E8 -> -39206.11 | G8: =G7+F8 -> 334989.44 | H8: =H7+INDEX('Прибыль'!$E$5:$E$16,MONTH($A8))+INDEX('Продажи'!$J$5:$J$16,MONTH($A8))-D8-E8 -> 29343.6 | I8: =G8-H8 -> 305645.84
A9: 46508 | B9: =INDEX('Продажи'!$H$5:$H$16,MONTH($A9)) -> 1082055 | C9: =INDEX('Расходы'!$L$5:$L$16,MONTH($A9)) -> 983457.34 | D9: =0 -> 0 | E9: =(INDEX('Продажи'!$J$5:$J$16,1)+INDEX('Продажи'!$J$5:$J$16,2)+INDEX('Продажи'!$J$5:$J$16,3))/3 -> 0 | F9: =B9-C9-D9-E9 -> 98597.66 | G9: =G8+F9 -> 433587.1 | H9: =H8+INDEX('Прибыль'!$E$5:$E$16,MONTH($A9))+INDEX('Продажи'!$J$5:$J$16,MONTH($A9))-D9-E9 -> 61805.25 | I9: =G9-H9 -> 371781.85
A10: 46539 | B10: =INDEX('Продажи'!$H$5:$H$16,MONTH($A10)) -> 1013220 | C10: =INDEX('Расходы'!$L$5:$L$16,MONTH($A10)) -> 956749.36 | D10: =0 -> 0 | E10: =(INDEX('Продажи'!$J$5:$J$16,1)+INDEX('Продажи'!$J$5:$J$16,2)+INDEX('Продажи'!$J$5:$J$16,3))/3 -> 0 | F10: =B10-C10-D10-E10 -> 56470.64 | G10: =G9+F10 -> 490057.74 | H10: =H9+INDEX('Прибыль'!$E$5:$E$16,MONTH($A10))+INDEX('Продажи'!$J$5:$J$16,MONTH($A10))-D10-E10 -> 92201.85 | I10: =G10-H10 -> 397855.89
A11: 46569 | B11: =INDEX('Продажи'!$H$5:$H$16,MONTH($A11)) -> 1021605 | C11: =INDEX('Расходы'!$L$5:$L$16,MONTH($A11)) -> 960002.74 | D11: =INDEX('Прибыль'!$E$5:$E$16,4)+INDEX('Прибыль'!$E$5:$E$16,5)+INDEX('Прибыль'!$E$5:$E$16,6) -> 92201.85 | E11: =(INDEX('Продажи'!$J$5:$J$16,4)+INDEX('Продажи'!$J$5:$J$16,5)+INDEX('Продажи'!$J$5:$J$16,6))/3 -> 0 | F11: =B11-C11-D11-E11 -> -30599.59 | G11: =G10+F11 -> 459458.15 | H11: =H10+INDEX('Прибыль'!$E$5:$E$16,MONTH($A11))+INDEX('Продажи'!$J$5:$J$16,MONTH($A11))-D11-E11 -> 30648.15 | I11: =G11-H11 -> 428810
A12: 46600 | B12: =INDEX('Продажи'!$H$5:$H$16,MONTH($A12)) -> 1111071 | C12: =INDEX('Расходы'!$L$5:$L$16,MONTH($A12)) -> 994715.55 | D12: =0 -> 0 | E12: =(INDEX('Продажи'!$J$5:$J$16,4)+INDEX('Продажи'!$J$5:$J$16,5)+INDEX('Продажи'!$J$5:$J$16,6))/3 -> 0 | F12: =B12-C12-D12-E12 -> 116355.45 | G12: =G11+F12 -> 575813.6 | H12: =H11+INDEX('Прибыль'!$E$5:$E$16,MONTH($A12))+INDEX('Продажи'!$J$5:$J$16,MONTH($A12))-D12-E12 -> 63980.28 | I12: =G12-H12 -> 511833.32
A13: 46631 | B13: =INDEX('Продажи'!$H$5:$H$16,MONTH($A13)) -> 1258920 | C13: =INDEX('Расходы'!$L$5:$L$16,MONTH($A13)) -> 1052081 | D13: =0 -> 0 | E13: =(INDEX('Продажи'!$J$5:$J$16,4)+INDEX('Продажи'!$J$5:$J$16,5)+INDEX('Продажи'!$J$5:$J$16,6))/3 -> 0 | F13: =B13-C13-D13-E13 -> 206839.04 | G13: =G12+F13 -> 782652.64 | H13: =H12+INDEX('Прибыль'!$E$5:$E$16,MONTH($A13))+INDEX('Продажи'!$J$5:$J$16,MONTH($A13))-D13-E13 -> 101747.88 | I13: =G13-H13 -> 680904.76
A14: 46661 | B14: =INDEX('Продажи'!$H$5:$H$16,MONTH($A14)) -> 1364961 | C14: =INDEX('Расходы'!$L$5:$L$16,MONTH($A14)) -> 1093224.9 | D14: =INDEX('Прибыль'!$E$5:$E$16,7)+INDEX('Прибыль'!$E$5:$E$16,8)+INDEX('Прибыль'!$E$5:$E$16,9) -> 101747.88 | E14: =(INDEX('Продажи'!$J$5:$J$16,7)+INDEX('Продажи'!$J$5:$J$16,8)+INDEX('Продажи'!$J$5:$J$16,9))/3 -> 0 | F14: =B14-C14-D14-E14 -> 169988.25 | G14: =G13+F14 -> 952640.89 | H14: =H13+INDEX('Прибыль'!$E$5:$E$16,MONTH($A14))+INDEX('Продажи'!$J$5:$J$16,MONTH($A14))-D14-E14 -> 40948.83 | I14: =G14-H14 -> 911692.06
A15: 46692 | B15: =INDEX('Продажи'!$H$5:$H$16,MONTH($A15)) -> 1360710 | C15: =INDEX('Расходы'!$L$5:$L$16,MONTH($A15)) -> 1091575.5 | D15: =0 -> 0 | E15: =(INDEX('Продажи'!$J$5:$J$16,7)+INDEX('Продажи'!$J$5:$J$16,8)+INDEX('Продажи'!$J$5:$J$16,9))/3 -> 0 | F15: =B15-C15-D15-E15 -> 269134.52 | G15: =G14+F15 -> 1221775.4 | H15: =H14+INDEX('Прибыль'!$E$5:$E$16,MONTH($A15))+INDEX('Продажи'!$J$5:$J$16,MONTH($A15))-D15-E15 -> 81770.13 | I15: =G15-H15 -> 1140005.3
A16: 46722 | B16: =INDEX('Продажи'!$H$5:$H$16,MONTH($A16)) -> 1513668 | C16: =INDEX('Расходы'!$L$5:$L$16,MONTH($A16)) -> 1150923.2 | D16: =0 -> 0 | E16: =(INDEX('Продажи'!$J$5:$J$16,7)+INDEX('Продажи'!$J$5:$J$16,8)+INDEX('Продажи'!$J$5:$J$16,9))/3 -> 0 | F16: =B16-C16-D16-E16 -> 362744.82 | G16: =G15+F16 -> 1584520.2 | H16: =H15+INDEX('Прибыль'!$E$5:$E$16,MONTH($A16))+INDEX('Продажи'!$J$5:$J$16,MONTH($A16))-D16-E16 -> 127180.17 | I16: =G16-H16 -> 1457340.1

Sheet Как пользоваться
A1: Понятная инструкция
A2: Модель бизнеса, а не бухгалтерская отчётность
A4: Начните здесь
A5: 1. На листе «Вводные» меняйте синие ячейки. Начните со среднего чека, гостей, аренды и окладов.
A6: 2. «Итоги» покажет прибыль и оба выхода в ноль.
A7: 3. «Продажи», «Расходы», «Прибыль» раскрывают расчёты по месяцам.
A8: 4. «Деньги» показывает счёт и сумму, которую нельзя тратить: резерв будущих налогов.
A9: 5. «Запуск» — смета до открытия. Формулы на других листах не заменяйте числами.
A11: Как устроена маленькая пекарня
A12: Около 60 м², ограниченный ассортимент, часть изделий из полуфабрикатов. Два бариста и два пекаря в сменном графике; основателейы управляют и закрывают подмены, уборку и закупки. При полном цикле производства, длинных сменах или отсутствии подмен понадобится больше персонала. В бюджет включена зарплата обоих основателей до НДФЛ; это не выплата дивидендов.
A14: Налоги простыми словами
A15: База — новое ООО на УСН «Доходы»: 6 % выручки без НДС, уменьшение на страховые взносы, но не более 50 % налога. Взносы в модели оплачены в месяце начисления. УСН начисляется ежемесячно для оценки прибыли, авансы оплачиваются поквартально; остаток за год остаётся в резерве на конец декабря. Реальные сроки зарплат, взносов, НДФЛ и праздники здесь не моделируются по дням. Для ИП потребуется добавить личные взносы, а один ИП не даёт партнёру долю в бизнесе.
... A29: Чек, посещаемость, сезонность, смета и себестоимость — авторские оценки; уточните трафик у выбранной двери, меню, техкарты и коммерческие предложения.
